BEGIN:VCALENDAR
VERSION:2.0
PRODID:-//Northside Baptist Church - ECPv6.15.17.1//NONSGML v1.0//EN
CALSCALE:GREGORIAN
METHOD:PUBLISH
X-WR-CALNAME:Northside Baptist Church
X-ORIGINAL-URL:https://nbcadelaide.org.au
X-WR-CALDESC:Events for Northside Baptist Church
REFRESH-INTERVAL;VALUE=DURATION:PT1H
X-Robots-Tag:noindex
X-PUBLISHED-TTL:PT1H
BEGIN:VTIMEZONE
TZID:Australia/Adelaide
BEGIN:STANDARD
TZOFFSETFROM:+1030
TZOFFSETTO:+0930
TZNAME:ACST
DTSTART:20250405T163000
END:STANDARD
BEGIN:DAYLIGHT
TZOFFSETFROM:+0930
TZOFFSETTO:+1030
TZNAME:ACDT
DTSTART:20251004T163000
END:DAYLIGHT
BEGIN:STANDARD
TZOFFSETFROM:+1030
TZOFFSETTO:+0930
TZNAME:ACST
DTSTART:20260404T163000
END:STANDARD
BEGIN:DAYLIGHT
TZOFFSETFROM:+0930
TZOFFSETTO:+1030
TZNAME:ACDT
DTSTART:20261003T163000
END:DAYLIGHT
BEGIN:STANDARD
TZOFFSETFROM:+1030
TZOFFSETTO:+0930
TZNAME:ACST
DTSTART:20270403T163000
END:STANDARD
BEGIN:DAYLIGHT
TZOFFSETFROM:+0930
TZOFFSETTO:+1030
TZNAME:ACDT
DTSTART:20271002T163000
END:DAYLIGHT
END:VTIMEZONE
BEGIN:VEVENT
DTSTART;TZID=Australia/Adelaide:20260426T103000
DTEND;TZID=Australia/Adelaide:20260426T120000
DTSTAMP:20260425T001755
CREATED:20260115T090801Z
LAST-MODIFIED:20260115T090801Z
UID:14039-1777199400-1777204800@nbcadelaide.org.au
SUMMARY:Sunday Worship Morning Service
DESCRIPTION:Start your Sunday morning immersed in the word of our Lord and Saviour Jesus Christ. \nPlease join us for our worship services this Sunday @ 10:30am. We also have an evening service @ 6pm.
URL:https://nbcadelaide.org.au/event/sunday-worship-morning-service-28/
LOCATION:Northside Baptist Church\, 145 Nelson Road\, Para Vista\, SA\, 5093\, Australia
CATEGORIES:Church Services
END:VEVENT
BEGIN:VEVENT
DTSTART;TZID=Australia/Adelaide:20260426T180000
DTEND;TZID=Australia/Adelaide:20260426T193000
DTSTAMP:20260425T001755
CREATED:20260115T091419Z
LAST-MODIFIED:20260115T091419Z
UID:14064-1777226400-1777231800@nbcadelaide.org.au
SUMMARY:Sunday Worship Evening Service
DESCRIPTION:Looking to spend your afternoon immersed in good teaching and the word of God? Then please join us for our worship services this Sunday @ 6pm. We also have a morning service @ 10:30am.
URL:https://nbcadelaide.org.au/event/sunday-worship-evening-service-27/
LOCATION:Northside Baptist Church\, 145 Nelson Road\, Para Vista\, SA\, 5093\, Australia
CATEGORIES:Church Services
END:VEVENT
BEGIN:VEVENT
DTSTART;TZID=Australia/Adelaide:20260429T190000
DTEND;TZID=Australia/Adelaide:20260429T203000
DTSTAMP:20260425T001755
CREATED:20260115T091903Z
LAST-MODIFIED:20260115T091903Z
UID:14102-1777489200-1777494600@nbcadelaide.org.au
SUMMARY:Wednesday Night Prayer Meeting
DESCRIPTION:Please join our Wednesday night prayer group for a short devotional followed by group prayer.
URL:https://nbcadelaide.org.au/event/wednesday-night-prayer-meeting-25/
LOCATION:Northside Baptist Church\, 145 Nelson Road\, Para Vista\, SA\, 5093\, Australia
CATEGORIES:Church Services
END:VEVENT
BEGIN:VEVENT
DTSTART;TZID=Australia/Adelaide:20260430T190000
DTEND;TZID=Australia/Adelaide:20260430T210000
DTSTAMP:20260425T001755
CREATED:20260328T222855Z
LAST-MODIFIED:20260328T222855Z
UID:16014-1777575600-1777582800@nbcadelaide.org.au
SUMMARY:~Embrace~ Ladies Fellowship
DESCRIPTION:Please join our ~Embrace~ ladies fellowship group which will be meeting this Thursday night.
URL:https://nbcadelaide.org.au/event/embrace-ladies-fellowship-6/
LOCATION:Northside Baptist Church\, 145 Nelson Road\, Para Vista\, SA\, 5093\, Australia
CATEGORIES:Ministry
END:VEVENT
BEGIN:VEVENT
DTSTART;TZID=Australia/Adelaide:20260502T093000
DTEND;TZID=Australia/Adelaide:20260502T113000
DTSTAMP:20260425T001755
CREATED:20260423T102936Z
LAST-MODIFIED:20260423T102936Z
UID:16185-1777714200-1777721400@nbcadelaide.org.au
SUMMARY:Outreach - Doorknocking
DESCRIPTION:This Saturday we will have a team heading out door-knocking & sharing the gospel. Please Pray!
URL:https://nbcadelaide.org.au/event/outreach-doorknocking-5/
LOCATION:Northside Baptist Church\, 145 Nelson Road\, Para Vista\, SA\, 5093\, Australia
CATEGORIES:Outreach
END:VEVENT
BEGIN:VEVENT
DTSTART;TZID=Australia/Adelaide:20260503T093000
DTEND;TZID=Australia/Adelaide:20260503T103000
DTSTAMP:20260425T001755
CREATED:20260423T102454Z
LAST-MODIFIED:20260423T102454Z
UID:16157-1777800600-1777804200@nbcadelaide.org.au
SUMMARY:Sunday School / Bible Hour Service
DESCRIPTION:The Kids Sunday School hour provides a firm foundation through Bible teaching\, Scripture memorization\, and joyful traditional worship. We are dedicated to pointing every child toward a personal relationship with Christ through the clear preaching of the Gospel. \nThe Adult Sunday School hour is a dedicated time of lecture-style Bible teaching\, emphasizing clear exposition of Scripture and sound biblical principles. It is designed to strengthen believers through faithful preaching and careful study of God’s Word. This year we are focusing on the Apostles.
URL:https://nbcadelaide.org.au/event/sunday-school-bible-hour-service-6/
LOCATION:Northside Baptist Church\, 145 Nelson Road\, Para Vista\, SA\, 5093\, Australia
END:VEVENT
BEGIN:VEVENT
DTSTART;TZID=Australia/Adelaide:20260503T103000
DTEND;TZID=Australia/Adelaide:20260503T120000
DTSTAMP:20260425T001755
CREATED:20260423T101943Z
LAST-MODIFIED:20260423T101943Z
UID:16125-1777804200-1777809600@nbcadelaide.org.au
SUMMARY:Sunday Worship Morning Service
DESCRIPTION:Start your Sunday morning immersed in the word of our Lord and Saviour Jesus Christ. \nPlease join us for our worship services this Sunday @ 10:30am. We also have an evening service @ 6pm.
URL:https://nbcadelaide.org.au/event/sunday-worship-morning-service-2/
LOCATION:Northside Baptist Church\, 145 Nelson Road\, Para Vista\, SA\, 5093\, Australia
CATEGORIES:Church Services
END:VEVENT
BEGIN:VEVENT
DTSTART;TZID=Australia/Adelaide:20260503T180000
DTEND;TZID=Australia/Adelaide:20260503T193000
DTSTAMP:20260425T001755
CREATED:20260423T102106Z
LAST-MODIFIED:20260423T102106Z
UID:16138-1777831200-1777836600@nbcadelaide.org.au
SUMMARY:Sunday Worship Evening Service
DESCRIPTION:Looking to spend your afternoon immersed in good teaching and the word of God? Then please join us for our worship services this Sunday @ 6pm. We also have a morning service @ 10:30am.
URL:https://nbcadelaide.org.au/event/sunday-worship-evening-service-3/
LOCATION:Northside Baptist Church\, 145 Nelson Road\, Para Vista\, SA\, 5093\, Australia
CATEGORIES:Church Services
END:VEVENT
BEGIN:VEVENT
DTSTART;TZID=Australia/Adelaide:20260506T190000
DTEND;TZID=Australia/Adelaide:20260506T203000
DTSTAMP:20260425T001755
CREATED:20260423T102715Z
LAST-MODIFIED:20260423T102715Z
UID:16173-1778094000-1778099400@nbcadelaide.org.au
SUMMARY:Wednesday Night Prayer Meeting
DESCRIPTION:Please join our Wednesday night prayer group for a short devotional followed by group prayer.
URL:https://nbcadelaide.org.au/event/wednesday-night-prayer-meeting-8/
LOCATION:Northside Baptist Church\, 145 Nelson Road\, Para Vista\, SA\, 5093\, Australia
CATEGORIES:Church Services
END:VEVENT
BEGIN:VEVENT
DTSTART;TZID=Australia/Adelaide:20260507T103000
DTEND;TZID=Australia/Adelaide:20260507T120000
DTSTAMP:20260425T001755
CREATED:20260423T102559Z
LAST-MODIFIED:20260423T102559Z
UID:16170-1778149800-1778155200@nbcadelaide.org.au
SUMMARY:Seniors Fellowship
DESCRIPTION:Please join our seniors prayer and fellowship group this Wednesday morning @ 10:30am.
URL:https://nbcadelaide.org.au/event/seniors-fellowship-12/
LOCATION:Northside Baptist Church\, 145 Nelson Road\, Para Vista\, SA\, 5093\, Australia
CATEGORIES:Ministry
END:VEVENT
BEGIN:VEVENT
DTSTART;TZID=Australia/Adelaide:20260508T190000
DTEND;TZID=Australia/Adelaide:20260508T210000
DTSTAMP:20260425T001755
CREATED:20260423T102309Z
LAST-MODIFIED:20260423T102309Z
UID:16153-1778266800-1778274000@nbcadelaide.org.au
SUMMARY:Youth Group
DESCRIPTION:Feel free to join our youth group this Friday night @ 7pm for an evening of fun\, food\, and fellowship centered around God’s Word.
URL:https://nbcadelaide.org.au/event/youth-group-8/
LOCATION:Northside Baptist Church\, 145 Nelson Road\, Para Vista\, SA\, 5093\, Australia
CATEGORIES:Ministry
END:VEVENT
BEGIN:VEVENT
DTSTART;TZID=Australia/Adelaide:20260509T093000
DTEND;TZID=Australia/Adelaide:20260509T113000
DTSTAMP:20260425T001755
CREATED:20260423T102943Z
LAST-MODIFIED:20260423T102943Z
UID:16186-1778319000-1778326200@nbcadelaide.org.au
SUMMARY:Outreach - Doorknocking
DESCRIPTION:This Saturday we will have a team heading out door-knocking & sharing the gospel. Please Pray!
URL:https://nbcadelaide.org.au/event/outreach-doorknocking-6/
LOCATION:Northside Baptist Church\, 145 Nelson Road\, Para Vista\, SA\, 5093\, Australia
CATEGORIES:Outreach
END:VEVENT
BEGIN:VEVENT
DTSTART;TZID=Australia/Adelaide:20260510T093000
DTEND;TZID=Australia/Adelaide:20260510T103000
DTSTAMP:20260425T001755
CREATED:20260423T102458Z
LAST-MODIFIED:20260423T102458Z
UID:16159-1778405400-1778409000@nbcadelaide.org.au
SUMMARY:Sunday School / Bible Hour Service
DESCRIPTION:The Kids Sunday School hour provides a firm foundation through Bible teaching\, Scripture memorization\, and joyful traditional worship. We are dedicated to pointing every child toward a personal relationship with Christ through the clear preaching of the Gospel. \nThe Adult Sunday School hour is a dedicated time of lecture-style Bible teaching\, emphasizing clear exposition of Scripture and sound biblical principles. It is designed to strengthen believers through faithful preaching and careful study of God’s Word. This year we are focusing on the Apostles.
URL:https://nbcadelaide.org.au/event/sunday-school-bible-hour-service-8/
LOCATION:Northside Baptist Church\, 145 Nelson Road\, Para Vista\, SA\, 5093\, Australia
END:VEVENT
BEGIN:VEVENT
DTSTART;TZID=Australia/Adelaide:20260510T103000
DTEND;TZID=Australia/Adelaide:20260510T120000
DTSTAMP:20260425T001755
CREATED:20260423T101947Z
LAST-MODIFIED:20260423T101947Z
UID:16126-1778409000-1778414400@nbcadelaide.org.au
SUMMARY:Sunday Worship Morning Service
DESCRIPTION:Start your Sunday morning immersed in the word of our Lord and Saviour Jesus Christ. \nPlease join us for our worship services this Sunday @ 10:30am. We also have an evening service @ 6pm.
URL:https://nbcadelaide.org.au/event/sunday-worship-morning-service-29/
LOCATION:Northside Baptist Church\, 145 Nelson Road\, Para Vista\, SA\, 5093\, Australia
CATEGORIES:Church Services
END:VEVENT
BEGIN:VEVENT
DTSTART;TZID=Australia/Adelaide:20260510T180000
DTEND;TZID=Australia/Adelaide:20260510T193000
DTSTAMP:20260425T001755
CREATED:20260423T102110Z
LAST-MODIFIED:20260423T102110Z
UID:16137-1778436000-1778441400@nbcadelaide.org.au
SUMMARY:Sunday Worship Evening Service
DESCRIPTION:Looking to spend your afternoon immersed in good teaching and the word of God? Then please join us for our worship services this Sunday @ 6pm. We also have a morning service @ 10:30am.
URL:https://nbcadelaide.org.au/event/sunday-worship-evening-service-28/
LOCATION:Northside Baptist Church\, 145 Nelson Road\, Para Vista\, SA\, 5093\, Australia
CATEGORIES:Church Services
END:VEVENT
BEGIN:VEVENT
DTSTART;TZID=Australia/Adelaide:20260513T190000
DTEND;TZID=Australia/Adelaide:20260513T203000
DTSTAMP:20260425T001755
CREATED:20260423T102727Z
LAST-MODIFIED:20260423T102727Z
UID:16174-1778698800-1778704200@nbcadelaide.org.au
SUMMARY:Wednesday Night Prayer Meeting
DESCRIPTION:Please join our Wednesday night prayer group for a short devotional followed by group prayer.
URL:https://nbcadelaide.org.au/event/wednesday-night-prayer-meeting-9/
LOCATION:Northside Baptist Church\, 145 Nelson Road\, Para Vista\, SA\, 5093\, Australia
CATEGORIES:Church Services
END:VEVENT
BEGIN:VEVENT
DTSTART;TZID=Australia/Adelaide:20260515T190000
DTEND;TZID=Australia/Adelaide:20260515T210000
DTSTAMP:20260425T001755
CREATED:20260423T102247Z
LAST-MODIFIED:20260423T102247Z
UID:16151-1778871600-1778878800@nbcadelaide.org.au
SUMMARY:YAMS - Young Adults
DESCRIPTION:Our young adults / marrieds & singles group is meeting this Friday night @ 7pm for some fun\, food\, and fellowship around the Word of God.
URL:https://nbcadelaide.org.au/event/yams-young-adults/
LOCATION:Assistant Pastor’s House\, Gawler\, South Australia\, 5118\, Australia
CATEGORIES:Ministry
END:VEVENT
BEGIN:VEVENT
DTSTART;TZID=Australia/Adelaide:20260516T093000
DTEND;TZID=Australia/Adelaide:20260516T113000
DTSTAMP:20260425T001755
CREATED:20260423T102956Z
LAST-MODIFIED:20260423T102956Z
UID:16187-1778923800-1778931000@nbcadelaide.org.au
SUMMARY:Outreach - Doorknocking
DESCRIPTION:This Saturday we will have a team heading out door-knocking & sharing the gospel. Please Pray!
URL:https://nbcadelaide.org.au/event/outreach-doorknocking-7/
LOCATION:Northside Baptist Church\, 145 Nelson Road\, Para Vista\, SA\, 5093\, Australia
CATEGORIES:Outreach
END:VEVENT
BEGIN:VEVENT
DTSTART;TZID=Australia/Adelaide:20260517T093000
DTEND;TZID=Australia/Adelaide:20260517T103000
DTSTAMP:20260425T001755
CREATED:20260423T102502Z
LAST-MODIFIED:20260423T102502Z
UID:16158-1779010200-1779013800@nbcadelaide.org.au
SUMMARY:Sunday School / Bible Hour Service
DESCRIPTION:The Kids Sunday School hour provides a firm foundation through Bible teaching\, Scripture memorization\, and joyful traditional worship. We are dedicated to pointing every child toward a personal relationship with Christ through the clear preaching of the Gospel. \nThe Adult Sunday School hour is a dedicated time of lecture-style Bible teaching\, emphasizing clear exposition of Scripture and sound biblical principles. It is designed to strengthen believers through faithful preaching and careful study of God’s Word. This year we are focusing on the Apostles.
URL:https://nbcadelaide.org.au/event/sunday-school-bible-hour-service-9/
LOCATION:Northside Baptist Church\, 145 Nelson Road\, Para Vista\, SA\, 5093\, Australia
END:VEVENT
BEGIN:VEVENT
DTSTART;TZID=Australia/Adelaide:20260517T103000
DTEND;TZID=Australia/Adelaide:20260517T120000
DTSTAMP:20260425T001755
CREATED:20260423T101952Z
LAST-MODIFIED:20260423T101952Z
UID:16128-1779013800-1779019200@nbcadelaide.org.au
SUMMARY:Sunday Worship Morning Service
DESCRIPTION:Start your Sunday morning immersed in the word of our Lord and Saviour Jesus Christ. \nPlease join us for our worship services this Sunday @ 10:30am. We also have an evening service @ 6pm.
URL:https://nbcadelaide.org.au/event/sunday-worship-morning-service-30/
LOCATION:Northside Baptist Church\, 145 Nelson Road\, Para Vista\, SA\, 5093\, Australia
CATEGORIES:Church Services
END:VEVENT
BEGIN:VEVENT
DTSTART;TZID=Australia/Adelaide:20260517T180000
DTEND;TZID=Australia/Adelaide:20260517T193000
DTSTAMP:20260425T001755
CREATED:20260423T102113Z
LAST-MODIFIED:20260423T102113Z
UID:16139-1779040800-1779046200@nbcadelaide.org.au
SUMMARY:Sunday Worship Evening Service
DESCRIPTION:Looking to spend your afternoon immersed in good teaching and the word of God? Then please join us for our worship services this Sunday @ 6pm. We also have a morning service @ 10:30am.
URL:https://nbcadelaide.org.au/event/sunday-worship-evening-service-29/
LOCATION:Northside Baptist Church\, 145 Nelson Road\, Para Vista\, SA\, 5093\, Australia
CATEGORIES:Church Services
END:VEVENT
BEGIN:VEVENT
DTSTART;TZID=Australia/Adelaide:20260520T190000
DTEND;TZID=Australia/Adelaide:20260520T203000
DTSTAMP:20260425T001755
CREATED:20260423T102732Z
LAST-MODIFIED:20260423T102732Z
UID:16176-1779303600-1779309000@nbcadelaide.org.au
SUMMARY:Wednesday Night Prayer Meeting
DESCRIPTION:Please join our Wednesday night prayer group for a short devotional followed by group prayer.
URL:https://nbcadelaide.org.au/event/wednesday-night-prayer-meeting-26/
LOCATION:Northside Baptist Church\, 145 Nelson Road\, Para Vista\, SA\, 5093\, Australia
CATEGORIES:Church Services
END:VEVENT
BEGIN:VEVENT
DTSTART;TZID=Australia/Adelaide:20260521T103000
DTEND;TZID=Australia/Adelaide:20260521T120000
DTSTAMP:20260425T001755
CREATED:20260423T102609Z
LAST-MODIFIED:20260423T102609Z
UID:16169-1779359400-1779364800@nbcadelaide.org.au
SUMMARY:Seniors Fellowship
DESCRIPTION:Please join our seniors prayer and fellowship group this Wednesday morning @ 10:30am.
URL:https://nbcadelaide.org.au/event/seniors-fellowship-13/
LOCATION:Northside Baptist Church\, 145 Nelson Road\, Para Vista\, SA\, 5093\, Australia
CATEGORIES:Ministry
END:VEVENT
BEGIN:VEVENT
DTSTART;TZID=Australia/Adelaide:20260522T190000
DTEND;TZID=Australia/Adelaide:20260522T210000
DTSTAMP:20260425T001755
CREATED:20260115T092323Z
LAST-MODIFIED:20260115T092323Z
UID:14106-1779476400-1779483600@nbcadelaide.org.au
SUMMARY:Missions Conference 2026 - Day 1
DESCRIPTION:With Dr Smith
URL:https://nbcadelaide.org.au/event/missions-conference-2026-day-1/
LOCATION:Northside Baptist Church\, 145 Nelson Road\, Para Vista\, SA\, 5093\, Australia
END:VEVENT
BEGIN:VEVENT
DTSTART;TZID=Australia/Adelaide:20260523T100000
DTEND;TZID=Australia/Adelaide:20260523T123000
DTSTAMP:20260425T001755
CREATED:20260115T092439Z
LAST-MODIFIED:20260115T092439Z
UID:14108-1779530400-1779539400@nbcadelaide.org.au
SUMMARY:Missions Conference 2026 - Day 2
DESCRIPTION:With Dr Smith
URL:https://nbcadelaide.org.au/event/missions-conference-2026-day-2/
LOCATION:Northside Baptist Church\, 145 Nelson Road\, Para Vista\, SA\, 5093\, Australia
END:VEVENT
BEGIN:VEVENT
DTSTART;TZID=Australia/Adelaide:20260524T093000
DTEND;TZID=Australia/Adelaide:20260524T103000
DTSTAMP:20260425T001755
CREATED:20260423T102506Z
LAST-MODIFIED:20260423T102506Z
UID:16160-1779615000-1779618600@nbcadelaide.org.au
SUMMARY:Sunday School / Bible Hour Service
DESCRIPTION:The Kids Sunday School hour provides a firm foundation through Bible teaching\, Scripture memorization\, and joyful traditional worship. We are dedicated to pointing every child toward a personal relationship with Christ through the clear preaching of the Gospel. \nThe Adult Sunday School hour is a dedicated time of lecture-style Bible teaching\, emphasizing clear exposition of Scripture and sound biblical principles. It is designed to strengthen believers through faithful preaching and careful study of God’s Word. This year we are focusing on the Apostles.
URL:https://nbcadelaide.org.au/event/sunday-school-bible-hour-service-11/
LOCATION:Northside Baptist Church\, 145 Nelson Road\, Para Vista\, SA\, 5093\, Australia
END:VEVENT
BEGIN:VEVENT
DTSTART;TZID=Australia/Adelaide:20260524T103000
DTEND;TZID=Australia/Adelaide:20260524T120000
DTSTAMP:20260425T001755
CREATED:20260423T101957Z
LAST-MODIFIED:20260423T101957Z
UID:16127-1779618600-1779624000@nbcadelaide.org.au
SUMMARY:Sunday Worship Morning Service
DESCRIPTION:Start your Sunday morning immersed in the word of our Lord and Saviour Jesus Christ. \nPlease join us for our worship services this Sunday @ 10:30am. We also have an evening service @ 6pm.
URL:https://nbcadelaide.org.au/event/sunday-worship-morning-service-31/
LOCATION:Northside Baptist Church\, 145 Nelson Road\, Para Vista\, SA\, 5093\, Australia
CATEGORIES:Church Services
END:VEVENT
BEGIN:VEVENT
DTSTART;TZID=Australia/Adelaide:20260524T180000
DTEND;TZID=Australia/Adelaide:20260524T193000
DTSTAMP:20260425T001755
CREATED:20260423T102117Z
LAST-MODIFIED:20260423T102117Z
UID:16141-1779645600-1779651000@nbcadelaide.org.au
SUMMARY:Sunday Worship Evening Service
DESCRIPTION:Looking to spend your afternoon immersed in good teaching and the word of God? Then please join us for our worship services this Sunday @ 6pm. We also have a morning service @ 10:30am.
URL:https://nbcadelaide.org.au/event/sunday-worship-evening-service-30/
LOCATION:Northside Baptist Church\, 145 Nelson Road\, Para Vista\, SA\, 5093\, Australia
CATEGORIES:Church Services
END:VEVENT
BEGIN:VEVENT
DTSTART;TZID=Australia/Adelaide:20260527T190000
DTEND;TZID=Australia/Adelaide:20260527T203000
DTSTAMP:20260425T001755
CREATED:20260423T102737Z
LAST-MODIFIED:20260423T102737Z
UID:16175-1779908400-1779913800@nbcadelaide.org.au
SUMMARY:Wednesday Night Prayer Meeting
DESCRIPTION:Please join our Wednesday night prayer group for a short devotional followed by group prayer.
URL:https://nbcadelaide.org.au/event/wednesday-night-prayer-meeting-27/
LOCATION:Northside Baptist Church\, 145 Nelson Road\, Para Vista\, SA\, 5093\, Australia
CATEGORIES:Church Services
END:VEVENT
BEGIN:VEVENT
DTSTART;TZID=Australia/Adelaide:20260528T190000
DTEND;TZID=Australia/Adelaide:20260528T210000
DTSTAMP:20260425T001755
CREATED:20260423T102159Z
LAST-MODIFIED:20260423T102159Z
UID:16149-1779994800-1780002000@nbcadelaide.org.au
SUMMARY:~Embrace~ Ladies Fellowship
DESCRIPTION:Please join our ~Embrace~ ladies fellowship group which will be meeting this Thursday night.
URL:https://nbcadelaide.org.au/event/embrace-ladies-fellowship-7/
LOCATION:Northside Baptist Church\, 145 Nelson Road\, Para Vista\, SA\, 5093\, Australia
CATEGORIES:Ministry
END:VEVENT
END:VCALENDAR