BEGIN:VCALENDAR
VERSION:2.0
PRODID:-//Welcome To Northside Bapist Church - ECPv4.6.4//NONSGML v1.0//EN
CALSCALE:GREGORIAN
METHOD:PUBLISH
X-WR-CALNAME:Welcome To Northside Bapist Church
X-ORIGINAL-URL:http://nbcadelaide.org.au
X-WR-CALDESC:Events for Welcome To Northside Bapist Church
BEGIN:VEVENT
DTSTART;VALUE=DATE:20180401
DTEND;VALUE=DATE:20180402
DTSTAMP:20210226T052135
CREATED:20180321T103637Z
LAST-MODIFIED:20180322T100805Z
UID:10246-1522540800-1522627199@nbcadelaide.org.au
SUMMARY:Resurrection Sunday Services
DESCRIPTION:  \n \n \n
URL:http://nbcadelaide.org.au/event/resurrection-sunday-services/
LOCATION:145 Nelson Road\, Para Vista SA
CATEGORIES:upcoming
END:VEVENT
END:VCALENDAR