BEGIN:VCALENDAR
VERSION:2.0
PRODID:-//Welcome To Northside Bapist Church - ECPv4.6.4//NONSGML v1.0//EN
CALSCALE:GREGORIAN
METHOD:PUBLISH
X-WR-CALNAME:Welcome To Northside Bapist Church
X-ORIGINAL-URL:http://nbcadelaide.org.au
X-WR-CALDESC:Events for Welcome To Northside Bapist Church
BEGIN:VEVENT
DTSTART;VALUE=DATE:20190421
DTEND;VALUE=DATE:20190422
DTSTAMP:20210226T052738
CREATED:20190412T030616Z
LAST-MODIFIED:20190412T030616Z
UID:10341-1555804800-1555891199@nbcadelaide.org.au
SUMMARY:Resurrection Sunday Services
DESCRIPTION: \n
URL:http://nbcadelaide.org.au/event/resurrection-sunday-services-2/
LOCATION:145 Nelson Road\, Para Vista SA
CATEGORIES:upcoming
END:VEVENT
END:VCALENDAR