BEGIN:VCALENDAR
VERSION:2.0
PRODID:-//Welcome To Northside Bapist Church - ECPv4.6.4//NONSGML v1.0//EN
CALSCALE:GREGORIAN
METHOD:PUBLISH
X-WR-CALNAME:Welcome To Northside Bapist Church
X-ORIGINAL-URL:http://nbcadelaide.org.au
X-WR-CALDESC:Events for Welcome To Northside Bapist Church
BEGIN:VEVENT
DTSTART;VALUE=DATE:20180511
DTEND;VALUE=DATE:20180514
DTSTAMP:20210226T052219
CREATED:20180429T221411Z
LAST-MODIFIED:20180429T221955Z
UID:10281-1525996800-1526255999@nbcadelaide.org.au
SUMMARY:Dr. Smith Meetings 2018
DESCRIPTION:Dr Smith Meetings 2018 \n \n  \n
URL:http://nbcadelaide.org.au/event/dr-smith-meetings-2018/
LOCATION:145 Nelson Road\, Para Vista SA
CATEGORIES:upcoming
END:VEVENT
END:VCALENDAR