BEGIN:VCALENDAR
VERSION:2.0
PRODID:-//Welcome To Northside Bapist Church - ECPv4.6.4//NONSGML v1.0//EN
CALSCALE:GREGORIAN
METHOD:PUBLISH
X-WR-CALNAME:Welcome To Northside Bapist Church
X-ORIGINAL-URL:http://nbcadelaide.org.au
X-WR-CALDESC:Events for Welcome To Northside Bapist Church
BEGIN:VEVENT
DTSTART;TZID=UTC+0:20171224T100000
DTEND;TZID=UTC+0:20171224T113000
DTSTAMP:20210226T051438
CREATED:20171121T062512Z
LAST-MODIFIED:20171222T232620Z
UID:10165-1514109600-1514115000@nbcadelaide.org.au
SUMMARY:Christmas Eve Services
DESCRIPTION:Lord willing we will be having our two regular services on Christmas Eve – 10am & 6pm.\nWe hope you will join us for some old-fashioned carol singing and messages from God’s Word on the theme of Christ’s coming into the world (the incarnation) \nALL WELCOME!!! \nWatch the below clip to be reminded of the true meaning of Christmas. \n \n
URL:http://nbcadelaide.org.au/event/christmas-carols/
LOCATION:145 Nelson Road\, Para Vista SA
CATEGORIES:upcoming
ATTACH;FMTTYPE=image/jpeg:http://nbcadelaide.org.au/wp-content/uploads/2017/11/4214328-colorful-gifts-for-christmas.jpg
END:VEVENT
END:VCALENDAR